BEGIN:VCALENDAR
VERSION:2.0
PRODID:-//Schwarzer König - ECPv6.15.20//NONSGML v1.0//EN
CALSCALE:GREGORIAN
METHOD:PUBLISH
X-ORIGINAL-URL:https://schwarzerkonig.ch
X-WR-CALDESC:Events for Schwarzer König
REFRESH-INTERVAL;VALUE=DURATION:PT1H
X-Robots-Tag:noindex
X-PUBLISHED-TTL:PT1H
BEGIN:VTIMEZONE
TZID:Europe/Zurich
BEGIN:DAYLIGHT
TZOFFSETFROM:+0100
TZOFFSETTO:+0200
TZNAME:CEST
DTSTART:20240331T010000
END:DAYLIGHT
BEGIN:STANDARD
TZOFFSETFROM:+0200
TZOFFSETTO:+0100
TZNAME:CET
DTSTART:20241027T010000
END:STANDARD
BEGIN:DAYLIGHT
TZOFFSETFROM:+0100
TZOFFSETTO:+0200
TZNAME:CEST
DTSTART:20250330T010000
END:DAYLIGHT
BEGIN:STANDARD
TZOFFSETFROM:+0200
TZOFFSETTO:+0100
TZNAME:CET
DTSTART:20251026T010000
END:STANDARD
BEGIN:DAYLIGHT
TZOFFSETFROM:+0100
TZOFFSETTO:+0200
TZNAME:CEST
DTSTART:20260329T010000
END:DAYLIGHT
BEGIN:STANDARD
TZOFFSETFROM:+0200
TZOFFSETTO:+0100
TZNAME:CET
DTSTART:20261025T010000
END:STANDARD
END:VTIMEZONE
BEGIN:VEVENT
DTSTART;TZID=Europe/Zurich:20251216T183000
DTEND;TZID=Europe/Zurich:20251216T213000
DTSTAMP:20260423T154041
CREATED:20250911T204905Z
LAST-MODIFIED:20250911T204924Z
UID:990-1765909800-1765920600@schwarzerkonig.ch
SUMMARY:Christmas Tournament
DESCRIPTION:
URL:https://schwarzerkonig.ch/event/christmas-tournament-2/
LOCATION:HG E41\, Rämistrasse 101\, Zürich\, 8092\, Switzerland
CATEGORIES:Tournament
ATTACH;FMTTYPE=image/jpeg:https://schwarzerkonig.ch/wp-content/uploads/2024/11/WhatsApp-Image-2024-05-04-at-17.39.31.jpeg
END:VEVENT
END:VCALENDAR